BEGIN:VCALENDAR
VERSION:2.0
PRODID:-//Historic Wicoff House Museum - ECPv6.15.17//NONSGML v1.0//EN
CALSCALE:GREGORIAN
METHOD:PUBLISH
X-ORIGINAL-URL:https://wicoffhouseplainsboro.com
X-WR-CALDESC:Events for Historic Wicoff House Museum
REFRESH-INTERVAL;VALUE=DURATION:PT1H
X-Robots-Tag:noindex
X-PUBLISHED-TTL:PT1H
BEGIN:VTIMEZONE
TZID:America/New_York
BEGIN:DAYLIGHT
TZOFFSETFROM:-0500
TZOFFSETTO:-0400
TZNAME:EDT
DTSTART:20230312T070000
END:DAYLIGHT
BEGIN:STANDARD
TZOFFSETFROM:-0400
TZOFFSETTO:-0500
TZNAME:EST
DTSTART:20231105T060000
END:STANDARD
BEGIN:DAYLIGHT
TZOFFSETFROM:-0500
TZOFFSETTO:-0400
TZNAME:EDT
DTSTART:20240310T070000
END:DAYLIGHT
BEGIN:STANDARD
TZOFFSETFROM:-0400
TZOFFSETTO:-0500
TZNAME:EST
DTSTART:20241103T060000
END:STANDARD
BEGIN:DAYLIGHT
TZOFFSETFROM:-0500
TZOFFSETTO:-0400
TZNAME:EDT
DTSTART:20250309T070000
END:DAYLIGHT
BEGIN:STANDARD
TZOFFSETFROM:-0400
TZOFFSETTO:-0500
TZNAME:EST
DTSTART:20251102T060000
END:STANDARD
END:VTIMEZONE
BEGIN:VEVENT
DTSTART;TZID=America/New_York:20241117T130000
DTEND;TZID=America/New_York:20241117T150000
DTSTAMP:20260425T194623
CREATED:20241022T184940Z
LAST-MODIFIED:20241022T184940Z
UID:3631-1731848400-1731855600@wicoffhouseplainsboro.com
SUMMARY:Voices of Plainsboro: A Living History Roundtable
DESCRIPTION:Join us on an interactive journey through Plainsboro’s rich past\, as residents in their 70s-90s share their personal stories of growing up in the town. This unique roundtable will cover themes such as Plainsboro’s farming history\, its historic buildings\, the early families and businesses that shaped the community\, and much more. \nAudience members will have the opportunity to ask questions and engage in this living history experience\, gaining firsthand insights into the town’s transformation over the decades. \nRefreshments provided. \nTo register: tinyurl.com/plainsborovoices
URL:https://wicoffhouseplainsboro.com/event/voices-of-plainsboro-a-living-history-roundtable/
LOCATION:Historic Wicoff House Museum\, 641 Plainsboro Road\, Plainsboro\, NJ\, 08536\, United States
CATEGORIES:Family Events
ATTACH;FMTTYPE=application/pdf:https://wicoffhouseplainsboro.com/wp-content/uploads/2024/10/Living-History-Roundtable-11.17.24-1.pdf
ORGANIZER;CN="Historic Wicoff House Museum":MAILTO:museum@plainsboronj.com
END:VEVENT
END:VCALENDAR