BEGIN:VCALENDAR
VERSION:2.0
PRODID:-//Historic Wicoff House Museum - ECPv6.15.17//NONSGML v1.0//EN
CALSCALE:GREGORIAN
METHOD:PUBLISH
X-ORIGINAL-URL:https://wicoffhouseplainsboro.com
X-WR-CALDESC:Events for Historic Wicoff House Museum
REFRESH-INTERVAL;VALUE=DURATION:PT1H
X-Robots-Tag:noindex
X-PUBLISHED-TTL:PT1H
BEGIN:VTIMEZONE
TZID:America/New_York
BEGIN:DAYLIGHT
TZOFFSETFROM:-0500
TZOFFSETTO:-0400
TZNAME:EDT
DTSTART:20240310T070000
END:DAYLIGHT
BEGIN:STANDARD
TZOFFSETFROM:-0400
TZOFFSETTO:-0500
TZNAME:EST
DTSTART:20241103T060000
END:STANDARD
BEGIN:DAYLIGHT
TZOFFSETFROM:-0500
TZOFFSETTO:-0400
TZNAME:EDT
DTSTART:20250309T070000
END:DAYLIGHT
BEGIN:STANDARD
TZOFFSETFROM:-0400
TZOFFSETTO:-0500
TZNAME:EST
DTSTART:20251102T060000
END:STANDARD
BEGIN:DAYLIGHT
TZOFFSETFROM:-0500
TZOFFSETTO:-0400
TZNAME:EDT
DTSTART:20260308T070000
END:DAYLIGHT
BEGIN:STANDARD
TZOFFSETFROM:-0400
TZOFFSETTO:-0500
TZNAME:EST
DTSTART:20261101T060000
END:STANDARD
END:VTIMEZONE
BEGIN:VEVENT
DTSTART;TZID=America/New_York:20250107T110000
DTEND;TZID=America/New_York:20250107T123000
DTSTAMP:20260425T164911
CREATED:20250106T170614Z
LAST-MODIFIED:20250106T170614Z
UID:3715-1736247600-1736253000@wicoffhouseplainsboro.com
SUMMARY:Family History Scrapbooking: Victorian Meets Modern
DESCRIPTION:This workshop invites participants to create beautiful\, meaningful family history scrapbooks by blending traditional Victorian scrapbooking techniques with modern methods. In the Victorian era\, scrapbooking was a popular way to preserve memories\, often using pressed flowers\, postcards\, newspaper clippings\, and hand-drawn illustrations. Participants will learn these classic techniques\, such as the art of layering memorabilia and creating decorative borders\, while incorporating modern elements like digital photos\, printed embellishments\, and contemporary journaling styles. The result is a timeless\, personalized scrapbook that preserves both family memories and historical connections\, offering a perfect balance of old-world charm and modern creativity.  \nYou need to bring your own photographs and anything else you might want to include in your scrapbook. Other supplies will be provided. \nTuesdays 11am-12:30pm\, January 7th-March 11th\n\n\n\nPlease register: tinyurl.com/whscrapbook
URL:https://wicoffhouseplainsboro.com/event/family-history-scrapbooking-victorian-meets-modern/
LOCATION:Historic Wicoff House Museum\, 641 Plainsboro Road\, Plainsboro\, NJ\, 08536\, United States
CATEGORIES:Adult Events
ATTACH;FMTTYPE=image/jpeg:https://wicoffhouseplainsboro.com/wp-content/uploads/2025/01/Screenshot_4-1-2025_13226_.jpeg
ORGANIZER;CN="Historic Wicoff House Museum":MAILTO:museum@plainsboronj.com
END:VEVENT
BEGIN:VEVENT
DTSTART;TZID=America/New_York:20250107T123000
DTEND;TZID=America/New_York:20250107T133000
DTSTAMP:20260425T164911
CREATED:20250106T164122Z
LAST-MODIFIED:20250106T164122Z
UID:3705-1736253000-1736256600@wicoffhouseplainsboro.com
SUMMARY:Volunteer Archivists
DESCRIPTION:Join our adult volunteer program and help the Wicoff House Museum preserve the rich history of Plainsboro! We are seeking dedicated volunteers to assist in organizing and cataloging historical documents related to the people\, places and events that have shaped our town’s history. Volunteers will work hands-on with photographs\, letters\, newspapers\, and other archival materials\, helping us to create a well-organized and accessible collection for future generations. This is a wonderful opportunity for history enthusiasts to engage with local history\, learn archival techniques\, and contribute to the museum’s mission of preserving Plainsboro’s legacy. No prior experience is necessary\, and training will be provided. Help us tell the story of Plainsboro!\n\n\n\nTuesdays\, 12:30-1:30pm\, January 7th- March 11th\n\nPlease register at: tinyurl.com/wharchivists
URL:https://wicoffhouseplainsboro.com/event/volunteer-archivists/
LOCATION:Historic Wicoff House Museum\, 641 Plainsboro Road\, Plainsboro\, NJ\, 08536\, United States
CATEGORIES:Adult Events
ATTACH;FMTTYPE=application/pdf:https://wicoffhouseplainsboro.com/wp-content/uploads/2025/01/1.7.25-Archivists-Flyer.pdf
ORGANIZER;CN="Historic Wicoff House Museum":MAILTO:museum@plainsboronj.com
END:VEVENT
END:VCALENDAR