BEGIN:VCALENDAR
VERSION:2.0
PRODID:-//Historic Wicoff House Museum - ECPv6.15.17//NONSGML v1.0//EN
CALSCALE:GREGORIAN
METHOD:PUBLISH
X-WR-CALNAME:Historic Wicoff House Museum
X-ORIGINAL-URL:https://wicoffhouseplainsboro.com
X-WR-CALDESC:Events for Historic Wicoff House Museum
REFRESH-INTERVAL;VALUE=DURATION:PT1H
X-Robots-Tag:noindex
X-PUBLISHED-TTL:PT1H
BEGIN:VTIMEZONE
TZID:America/New_York
BEGIN:DAYLIGHT
TZOFFSETFROM:-0500
TZOFFSETTO:-0400
TZNAME:EDT
DTSTART:20240310T070000
END:DAYLIGHT
BEGIN:STANDARD
TZOFFSETFROM:-0400
TZOFFSETTO:-0500
TZNAME:EST
DTSTART:20241103T060000
END:STANDARD
BEGIN:DAYLIGHT
TZOFFSETFROM:-0500
TZOFFSETTO:-0400
TZNAME:EDT
DTSTART:20250309T070000
END:DAYLIGHT
BEGIN:STANDARD
TZOFFSETFROM:-0400
TZOFFSETTO:-0500
TZNAME:EST
DTSTART:20251102T060000
END:STANDARD
BEGIN:DAYLIGHT
TZOFFSETFROM:-0500
TZOFFSETTO:-0400
TZNAME:EDT
DTSTART:20260308T070000
END:DAYLIGHT
BEGIN:STANDARD
TZOFFSETFROM:-0400
TZOFFSETTO:-0500
TZNAME:EST
DTSTART:20261101T060000
END:STANDARD
END:VTIMEZONE
BEGIN:VEVENT
DTSTART;TZID=America/New_York:20250118T140000
DTEND;TZID=America/New_York:20250118T160000
DTSTAMP:20260425T164759
CREATED:20250106T171249Z
LAST-MODIFIED:20250106T171249Z
UID:3717-1737208800-1737216000@wicoffhouseplainsboro.com
SUMMARY:Junior Historians Club
DESCRIPTION:The Junior Historians Club meets at the Wicoff House Museum\, where they solve museum mysteries and learn about topics related to history and preservation. They use the museum collections and the museum grounds to complete fun activities.  \nEach club member will receive a JHC t-shirt\, a JHC membership card and a JHC log book to record all of their activities. Snacks will be provided. \nSaturdays 2:00-4:00pm\, January 18th- March 22nd \nPlease register: tinyurl.com/whjhc25
URL:https://wicoffhouseplainsboro.com/event/junior-historians-club/
LOCATION:Historic Wicoff House Museum\, 641 Plainsboro Road\, Plainsboro\, NJ\, 08536\, United States
CATEGORIES:Junior Historians Club
ATTACH;FMTTYPE=application/pdf:https://wicoffhouseplainsboro.com/wp-content/uploads/2025/01/1.18.25-JHC-Flyer-1.pdf
ORGANIZER;CN="Historic Wicoff House Museum":MAILTO:museum@plainsboronj.com
END:VEVENT
END:VCALENDAR