BEGIN:VCALENDAR
VERSION:2.0
PRODID:-//Historic Wicoff House Museum - ECPv6.15.17//NONSGML v1.0//EN
CALSCALE:GREGORIAN
METHOD:PUBLISH
X-WR-CALNAME:Historic Wicoff House Museum
X-ORIGINAL-URL:https://wicoffhouseplainsboro.com
X-WR-CALDESC:Events for Historic Wicoff House Museum
REFRESH-INTERVAL;VALUE=DURATION:PT1H
X-Robots-Tag:noindex
X-PUBLISHED-TTL:PT1H
BEGIN:VTIMEZONE
TZID:America/New_York
BEGIN:DAYLIGHT
TZOFFSETFROM:-0500
TZOFFSETTO:-0400
TZNAME:EDT
DTSTART:20240310T070000
END:DAYLIGHT
BEGIN:STANDARD
TZOFFSETFROM:-0400
TZOFFSETTO:-0500
TZNAME:EST
DTSTART:20241103T060000
END:STANDARD
BEGIN:DAYLIGHT
TZOFFSETFROM:-0500
TZOFFSETTO:-0400
TZNAME:EDT
DTSTART:20250309T070000
END:DAYLIGHT
BEGIN:STANDARD
TZOFFSETFROM:-0400
TZOFFSETTO:-0500
TZNAME:EST
DTSTART:20251102T060000
END:STANDARD
BEGIN:DAYLIGHT
TZOFFSETFROM:-0500
TZOFFSETTO:-0400
TZNAME:EDT
DTSTART:20260308T070000
END:DAYLIGHT
BEGIN:STANDARD
TZOFFSETFROM:-0400
TZOFFSETTO:-0500
TZNAME:EST
DTSTART:20261101T060000
END:STANDARD
END:VTIMEZONE
BEGIN:VEVENT
DTSTART;TZID=America/New_York:20250201T180000
DTEND;TZID=America/New_York:20250201T200000
DTSTAMP:20260425T151524
CREATED:20250104T212829Z
LAST-MODIFIED:20250104T212829Z
UID:3695-1738432800-1738440000@wicoffhouseplainsboro.com
SUMMARY:Trivia on Tap
DESCRIPTION:Join the Wicoff House Museum for Trivia on Tap\, an exciting evening of history-themed trivia\, delicious mocktails\, and fun prizes. Test your knowledge of the past while enjoying a relaxed and social atmosphere with friends and fellow trivia enthusiasts. \nThe event takes place on Saturday\, February 1\, from 6–8 PM\, at 641 Plainsboro Road\, Plainsboro. \nRegistration is open at meetup.com/plainsborosocial. Don’t miss this unique blend of games\, refreshments\, and historical fun!
URL:https://wicoffhouseplainsboro.com/event/trivia-on-tap/
LOCATION:Historic Wicoff House Museum\, 641 Plainsboro Road\, Plainsboro\, NJ\, 08536\, United States
CATEGORIES:Adult Events
ATTACH;FMTTYPE=image/jpeg:https://wicoffhouseplainsboro.com/wp-content/uploads/2025/01/Screenshot_4-1-2025_155357_.jpeg
ORGANIZER;CN="Historic Wicoff House Museum":MAILTO:museum@plainsboronj.com
END:VEVENT
END:VCALENDAR