BEGIN:VCALENDAR
VERSION:2.0
PRODID:-//Historic Wicoff House Museum - ECPv6.15.17//NONSGML v1.0//EN
CALSCALE:GREGORIAN
METHOD:PUBLISH
X-WR-CALNAME:Historic Wicoff House Museum
X-ORIGINAL-URL:https://wicoffhouseplainsboro.com
X-WR-CALDESC:Events for Historic Wicoff House Museum
REFRESH-INTERVAL;VALUE=DURATION:PT1H
X-Robots-Tag:noindex
X-PUBLISHED-TTL:PT1H
BEGIN:VTIMEZONE
TZID:America/New_York
BEGIN:DAYLIGHT
TZOFFSETFROM:-0500
TZOFFSETTO:-0400
TZNAME:EDT
DTSTART:20240310T070000
END:DAYLIGHT
BEGIN:STANDARD
TZOFFSETFROM:-0400
TZOFFSETTO:-0500
TZNAME:EST
DTSTART:20241103T060000
END:STANDARD
BEGIN:DAYLIGHT
TZOFFSETFROM:-0500
TZOFFSETTO:-0400
TZNAME:EDT
DTSTART:20250309T070000
END:DAYLIGHT
BEGIN:STANDARD
TZOFFSETFROM:-0400
TZOFFSETTO:-0500
TZNAME:EST
DTSTART:20251102T060000
END:STANDARD
BEGIN:DAYLIGHT
TZOFFSETFROM:-0500
TZOFFSETTO:-0400
TZNAME:EDT
DTSTART:20260308T070000
END:DAYLIGHT
BEGIN:STANDARD
TZOFFSETFROM:-0400
TZOFFSETTO:-0500
TZNAME:EST
DTSTART:20261101T060000
END:STANDARD
END:VTIMEZONE
BEGIN:VEVENT
DTSTART;TZID=America/New_York:20250222T160000
DTEND;TZID=America/New_York:20250222T200000
DTSTAMP:20260425T151527
CREATED:20250104T213142Z
LAST-MODIFIED:20250104T213142Z
UID:3701-1740240000-1740254400@wicoffhouseplainsboro.com
SUMMARY:Escape the Museum
DESCRIPTION:Join us at the Wicoff House for this fun family event. You will be “locked” in the rooms of the historic Wicoff House with a mission to solve before time runs out! \n$5 per person\nincludes: escape room admission\, slice of pizza and drink\, souvenir \nEscape rooms best suited for children 8 and up\, younger kids must be accompanied by parents. \nProceeds benefit the Wicoff House Museum Youth Advisory Council and the Friends of the Wicoff House. \nPlease register: tinyurl.com/whescape25
URL:https://wicoffhouseplainsboro.com/event/escape-the-museum/
LOCATION:Historic Wicoff House Museum\, 641 Plainsboro Road\, Plainsboro\, NJ\, 08536\, United States
CATEGORIES:Family Events,Youth Advisory Council
ATTACH;FMTTYPE=image/jpeg:https://wicoffhouseplainsboro.com/wp-content/uploads/2025/01/Screenshot_4-1-2025_14323_.jpeg
ORGANIZER;CN="Historic Wicoff House Museum":MAILTO:museum@plainsboronj.com
END:VEVENT
END:VCALENDAR