BEGIN:VCALENDAR
VERSION:2.0
PRODID:-//Historic Wicoff House Museum - ECPv6.15.17//NONSGML v1.0//EN
CALSCALE:GREGORIAN
METHOD:PUBLISH
X-WR-CALNAME:Historic Wicoff House Museum
X-ORIGINAL-URL:https://wicoffhouseplainsboro.com
X-WR-CALDESC:Events for Historic Wicoff House Museum
REFRESH-INTERVAL;VALUE=DURATION:PT1H
X-Robots-Tag:noindex
X-PUBLISHED-TTL:PT1H
BEGIN:VTIMEZONE
TZID:America/New_York
BEGIN:DAYLIGHT
TZOFFSETFROM:-0500
TZOFFSETTO:-0400
TZNAME:EDT
DTSTART:20240310T070000
END:DAYLIGHT
BEGIN:STANDARD
TZOFFSETFROM:-0400
TZOFFSETTO:-0500
TZNAME:EST
DTSTART:20241103T060000
END:STANDARD
BEGIN:DAYLIGHT
TZOFFSETFROM:-0500
TZOFFSETTO:-0400
TZNAME:EDT
DTSTART:20250309T070000
END:DAYLIGHT
BEGIN:STANDARD
TZOFFSETFROM:-0400
TZOFFSETTO:-0500
TZNAME:EST
DTSTART:20251102T060000
END:STANDARD
BEGIN:DAYLIGHT
TZOFFSETFROM:-0500
TZOFFSETTO:-0400
TZNAME:EDT
DTSTART:20260308T070000
END:DAYLIGHT
BEGIN:STANDARD
TZOFFSETFROM:-0400
TZOFFSETTO:-0500
TZNAME:EST
DTSTART:20261101T060000
END:STANDARD
END:VTIMEZONE
BEGIN:VEVENT
DTSTART;TZID=America/New_York:20250301T180000
DTEND;TZID=America/New_York:20250301T200000
DTSTAMP:20260425T134831
CREATED:20250204T214143Z
LAST-MODIFIED:20250204T214143Z
UID:3735-1740852000-1740859200@wicoffhouseplainsboro.com
SUMMARY:Stories from Our Community- Patrice McDonough
DESCRIPTION:Join Patrice McDonough as she discusses her upcoming historical mystery\, A Slash of Emerald\, releasing February 25\, 2025. Set in 1867 London\, the book follows Dr. Julia Lewis and Inspector Richard Tennant as they unravel a sinister case. Don’t miss the chance to hear about Patrice’s inspiration and the creative journey behind this gripping novel! \nMarch 1st\, 6pm-8pm \nTo Register: meetup.com/plainsborosocial \nRefreshments will be provided.
URL:https://wicoffhouseplainsboro.com/event/stories-from-our-community-patrice-mcdonough/
LOCATION:Historic Wicoff House Museum\, 641 Plainsboro Road\, Plainsboro\, NJ\, 08536\, United States
CATEGORIES:Adult Events,Family Events
ATTACH;FMTTYPE=image/png:https://wicoffhouseplainsboro.com/wp-content/uploads/2025/02/Patrice-McDonough-4.png
ORGANIZER;CN="Historic Wicoff House Museum":MAILTO:museum@plainsboronj.com
END:VEVENT
END:VCALENDAR