BEGIN:VCALENDAR
VERSION:2.0
PRODID:-//Historic Wicoff House Museum - ECPv6.15.17//NONSGML v1.0//EN
CALSCALE:GREGORIAN
METHOD:PUBLISH
X-WR-CALNAME:Historic Wicoff House Museum
X-ORIGINAL-URL:https://wicoffhouseplainsboro.com
X-WR-CALDESC:Events for Historic Wicoff House Museum
REFRESH-INTERVAL;VALUE=DURATION:PT1H
X-Robots-Tag:noindex
X-PUBLISHED-TTL:PT1H
BEGIN:VTIMEZONE
TZID:America/New_York
BEGIN:DAYLIGHT
TZOFFSETFROM:-0500
TZOFFSETTO:-0400
TZNAME:EDT
DTSTART:20240310T070000
END:DAYLIGHT
BEGIN:STANDARD
TZOFFSETFROM:-0400
TZOFFSETTO:-0500
TZNAME:EST
DTSTART:20241103T060000
END:STANDARD
BEGIN:DAYLIGHT
TZOFFSETFROM:-0500
TZOFFSETTO:-0400
TZNAME:EDT
DTSTART:20250309T070000
END:DAYLIGHT
BEGIN:STANDARD
TZOFFSETFROM:-0400
TZOFFSETTO:-0500
TZNAME:EST
DTSTART:20251102T060000
END:STANDARD
BEGIN:DAYLIGHT
TZOFFSETFROM:-0500
TZOFFSETTO:-0400
TZNAME:EDT
DTSTART:20260308T070000
END:DAYLIGHT
BEGIN:STANDARD
TZOFFSETFROM:-0400
TZOFFSETTO:-0500
TZNAME:EST
DTSTART:20261101T060000
END:STANDARD
END:VTIMEZONE
BEGIN:VEVENT
DTSTART;TZID=America/New_York:20250302T130000
DTEND;TZID=America/New_York:20250302T140000
DTSTAMP:20260425T134507
CREATED:20241227T210850Z
LAST-MODIFIED:20250228T163054Z
UID:3687-1740920400-1740924000@wicoffhouseplainsboro.com
SUMMARY:Building Community: The History of Civic and Social Organizations in Plainsboro
DESCRIPTION:NEW DATE: March 2nd! \nJoin us for an exciting journey through Plainsboro’s rich history of civic and social organizations! From the Lions Club and Rotary Club to 4-H and local gun clubs\, discover how these groups have brought our community together\, sparked collaboration\, and built a lasting sense of unity. \nEnjoy refreshments while learning about the traditions that continue to shape Plainsboro today. \nFree event\, but registration is requested: tinyurl.com/whfeblecture \n 
URL:https://wicoffhouseplainsboro.com/event/building-community-the-history-of-civic-and-social-organizations-in-plainsboro/
LOCATION:Historic Wicoff House Museum\, 641 Plainsboro Road\, Plainsboro\, NJ\, 08536\, United States
CATEGORIES:Adult Events
ATTACH;FMTTYPE=application/pdf:https://wicoffhouseplainsboro.com/wp-content/uploads/2024/12/2.23.25-Building-Community-History-Lecture.pdf
ORGANIZER;CN="Historic Wicoff House Museum":MAILTO:museum@plainsboronj.com
END:VEVENT
END:VCALENDAR