BEGIN:VCALENDAR
VERSION:2.0
PRODID:-//Historic Wicoff House Museum - ECPv6.15.17//NONSGML v1.0//EN
CALSCALE:GREGORIAN
METHOD:PUBLISH
X-ORIGINAL-URL:https://wicoffhouseplainsboro.com
X-WR-CALDESC:Events for Historic Wicoff House Museum
REFRESH-INTERVAL;VALUE=DURATION:PT1H
X-Robots-Tag:noindex
X-PUBLISHED-TTL:PT1H
BEGIN:VTIMEZONE
TZID:America/New_York
BEGIN:DAYLIGHT
TZOFFSETFROM:-0500
TZOFFSETTO:-0400
TZNAME:EDT
DTSTART:20240310T070000
END:DAYLIGHT
BEGIN:STANDARD
TZOFFSETFROM:-0400
TZOFFSETTO:-0500
TZNAME:EST
DTSTART:20241103T060000
END:STANDARD
BEGIN:DAYLIGHT
TZOFFSETFROM:-0500
TZOFFSETTO:-0400
TZNAME:EDT
DTSTART:20250309T070000
END:DAYLIGHT
BEGIN:STANDARD
TZOFFSETFROM:-0400
TZOFFSETTO:-0500
TZNAME:EST
DTSTART:20251102T060000
END:STANDARD
BEGIN:DAYLIGHT
TZOFFSETFROM:-0500
TZOFFSETTO:-0400
TZNAME:EDT
DTSTART:20260308T070000
END:DAYLIGHT
BEGIN:STANDARD
TZOFFSETFROM:-0400
TZOFFSETTO:-0500
TZNAME:EST
DTSTART:20261101T060000
END:STANDARD
END:VTIMEZONE
BEGIN:VEVENT
DTSTART;TZID=America/New_York:20250316T140000
DTEND;TZID=America/New_York:20250316T160000
DTSTAMP:20260425T135309
CREATED:20250307T170402Z
LAST-MODIFIED:20250307T170402Z
UID:3834-1742133600-1742140800@wicoffhouseplainsboro.com
SUMMARY:St. Patrick's Day Party
DESCRIPTION:Get ready for a shamrockin’ good time at the Wicoff House Museum’s St. Patrick’s Day Party on Sunday\, March 16\, from 2–4 PM! \nThis free event is packed with fun—kids’ crafts\, games\, a scavenger hunt\, and delicious green snow cones! Don’t forget to wear green for a chance to win a prize! Grab your friends\, bring your lucky spirit\, and join us for an afternoon of festive fun. \nSign up now at tinyurl.com/whgreen25!
URL:https://wicoffhouseplainsboro.com/event/st-patricks-day-party/
LOCATION:Historic Wicoff House Museum\, 641 Plainsboro Road\, Plainsboro\, NJ\, 08536\, United States
CATEGORIES:Youth Advisory Council
ATTACH;FMTTYPE=application/pdf:https://wicoffhouseplainsboro.com/wp-content/uploads/2025/03/3.16.25-St.-Patricks-Day-Event-Flyer_20250307_113018_0000.pdf
ORGANIZER;CN="Historic Wicoff House Museum":MAILTO:museum@plainsboronj.com
END:VEVENT
END:VCALENDAR