BEGIN:VCALENDAR
VERSION:2.0
PRODID:-//Historic Wicoff House Museum - ECPv6.15.17//NONSGML v1.0//EN
CALSCALE:GREGORIAN
METHOD:PUBLISH
X-WR-CALNAME:Historic Wicoff House Museum
X-ORIGINAL-URL:https://wicoffhouseplainsboro.com
X-WR-CALDESC:Events for Historic Wicoff House Museum
REFRESH-INTERVAL;VALUE=DURATION:PT1H
X-Robots-Tag:noindex
X-PUBLISHED-TTL:PT1H
BEGIN:VTIMEZONE
TZID:America/New_York
BEGIN:DAYLIGHT
TZOFFSETFROM:-0500
TZOFFSETTO:-0400
TZNAME:EDT
DTSTART:20240310T070000
END:DAYLIGHT
BEGIN:STANDARD
TZOFFSETFROM:-0400
TZOFFSETTO:-0500
TZNAME:EST
DTSTART:20241103T060000
END:STANDARD
BEGIN:DAYLIGHT
TZOFFSETFROM:-0500
TZOFFSETTO:-0400
TZNAME:EDT
DTSTART:20250309T070000
END:DAYLIGHT
BEGIN:STANDARD
TZOFFSETFROM:-0400
TZOFFSETTO:-0500
TZNAME:EST
DTSTART:20251102T060000
END:STANDARD
BEGIN:DAYLIGHT
TZOFFSETFROM:-0500
TZOFFSETTO:-0400
TZNAME:EDT
DTSTART:20260308T070000
END:DAYLIGHT
BEGIN:STANDARD
TZOFFSETFROM:-0400
TZOFFSETTO:-0500
TZNAME:EST
DTSTART:20261101T060000
END:STANDARD
END:VTIMEZONE
BEGIN:VEVENT
DTSTART;TZID=America/New_York:20250404T113000
DTEND;TZID=America/New_York:20250404T133000
DTSTAMP:20260425T122614
CREATED:20250318T192909Z
LAST-MODIFIED:20250318T192909Z
UID:3858-1743766200-1743773400@wicoffhouseplainsboro.com
SUMMARY:Volunteer Archivists
DESCRIPTION:Ages 18+  \nJoin our adult volunteer program and help the Wicoff House Museum preserve the rich history of Plainsboro! We are seeking dedicated volunteers to assist in organizing and cataloging historical documents related to the people\, places and events that have shaped our town’s history. Volunteers will work hands-on with photographs\, letters\, newspapers\, and other archival materials\, helping us to create a well-organized and accessible collection for future generations. This is a wonderful opportunity for history enthusiasts to engage with local history\, learn archival techniques\, and contribute to the museum’s mission of preserving Plainsboro’s legacy. No prior experience is necessary\, and training will be provided. Help us tell the story of Plainsboro!  \nFree program!  \nApril 4th- June 6th\, 11:30am-1:30pm  \nTo register: tinyurl.com/wharch25 
URL:https://wicoffhouseplainsboro.com/event/volunteer-archivists-2/
LOCATION:Historic Wicoff House Museum\, 641 Plainsboro Road\, Plainsboro\, NJ\, 08536\, United States
CATEGORIES:Adult Events
ATTACH;FMTTYPE=image/jpeg:https://wicoffhouseplainsboro.com/wp-content/uploads/2025/03/Screenshot_18-3-2025_14327_.jpeg
ORGANIZER;CN="Historic Wicoff House Museum":MAILTO:museum@plainsboronj.com
END:VEVENT
END:VCALENDAR