BEGIN:VCALENDAR
VERSION:2.0
PRODID:-//Historic Wicoff House Museum - ECPv6.15.17//NONSGML v1.0//EN
CALSCALE:GREGORIAN
METHOD:PUBLISH
X-ORIGINAL-URL:https://wicoffhouseplainsboro.com
X-WR-CALDESC:Events for Historic Wicoff House Museum
REFRESH-INTERVAL;VALUE=DURATION:PT1H
X-Robots-Tag:noindex
X-PUBLISHED-TTL:PT1H
BEGIN:VTIMEZONE
TZID:America/New_York
BEGIN:DAYLIGHT
TZOFFSETFROM:-0500
TZOFFSETTO:-0400
TZNAME:EDT
DTSTART:20240310T070000
END:DAYLIGHT
BEGIN:STANDARD
TZOFFSETFROM:-0400
TZOFFSETTO:-0500
TZNAME:EST
DTSTART:20241103T060000
END:STANDARD
BEGIN:DAYLIGHT
TZOFFSETFROM:-0500
TZOFFSETTO:-0400
TZNAME:EDT
DTSTART:20250309T070000
END:DAYLIGHT
BEGIN:STANDARD
TZOFFSETFROM:-0400
TZOFFSETTO:-0500
TZNAME:EST
DTSTART:20251102T060000
END:STANDARD
BEGIN:DAYLIGHT
TZOFFSETFROM:-0500
TZOFFSETTO:-0400
TZNAME:EDT
DTSTART:20260308T070000
END:DAYLIGHT
BEGIN:STANDARD
TZOFFSETFROM:-0400
TZOFFSETTO:-0500
TZNAME:EST
DTSTART:20261101T060000
END:STANDARD
BEGIN:DAYLIGHT
TZOFFSETFROM:-0500
TZOFFSETTO:-0400
TZNAME:EDT
DTSTART:20270314T070000
END:DAYLIGHT
BEGIN:STANDARD
TZOFFSETFROM:-0400
TZOFFSETTO:-0500
TZNAME:EST
DTSTART:20271107T060000
END:STANDARD
END:VTIMEZONE
BEGIN:VEVENT
DTSTART;TZID=America/New_York:20250504T143000
DTEND;TZID=America/New_York:20250504T153000
DTSTAMP:20260425T111920
CREATED:20250307T164716Z
LAST-MODIFIED:20250307T164716Z
UID:3832-1746369000-1746372600@wicoffhouseplainsboro.com
SUMMARY:Kids Craft Drop-In Days
DESCRIPTION:Get ready for some hands-on\, crafty fun at the Kids’ Craft Drop-In Workshop! This creative event is the perfect chance for kids to unleash their imagination\, get messy with art supplies\, and create masterpieces they’ll be proud of. From glitter and glue to paint and paper\, the possibilities are endless! No sign-ups —just drop in\, grab some supplies\, and let the fun begin.\n\nFirst Sunday of the month\, 2:30-3:30pm\n\nNo need to register!
URL:https://wicoffhouseplainsboro.com/event/kids-craft-drop-in-days-3/
LOCATION:Historic Wicoff House Museum\, 641 Plainsboro Road\, Plainsboro\, NJ\, 08536\, United States
CATEGORIES:Family Events,Kids Program
ATTACH;FMTTYPE=image/jpeg:https://wicoffhouseplainsboro.com/wp-content/uploads/2025/01/Screenshot_4-1-2025_15411_.jpeg
ORGANIZER;CN="Historic Wicoff House Museum":MAILTO:museum@plainsboronj.com
END:VEVENT
BEGIN:VEVENT
DTSTART;TZID=America/New_York:20250508T180000
DTEND;TZID=America/New_York:20250508T200000
DTSTAMP:20260425T111920
CREATED:20250323T203400Z
LAST-MODIFIED:20250327T153657Z
UID:3882-1746727200-1746734400@wicoffhouseplainsboro.com
SUMMARY:Stories From Our Community- Carol J. Binkowski
DESCRIPTION:Free Event! \nGet ready for a fascinating evening as author Carol J. Binkowski brings history to life! She’ll share behind-the-scenes stories from her novels Opening Carnegie Hall and New Jersey’s Remarkable Women\, plus insights from her research adventures. Stick around for a lively Q&A\, book signing\, and of course—refreshments! \nThursday May 8th\, 6pm-8pm \nTo register: meetup.com/plainsborosocial
URL:https://wicoffhouseplainsboro.com/event/stories-from-our-community-carol-j-binkowski/
LOCATION:Historic Wicoff House Museum\, 641 Plainsboro Road\, Plainsboro\, NJ\, 08536\, United States
CATEGORIES:Adult Events,Family Events
ATTACH;FMTTYPE=application/pdf:https://wicoffhouseplainsboro.com/wp-content/uploads/2025/03/Carol-J.-Binkowski-1.pdf
ORGANIZER;CN="Historic Wicoff House Museum":MAILTO:museum@plainsboronj.com
END:VEVENT
BEGIN:VEVENT
DTSTART;TZID=America/New_York:20250705T140000
DTEND;TZID=America/New_York:20250705T160000
DTSTAMP:20260425T111920
CREATED:20250720T175816Z
LAST-MODIFIED:20250720T175816Z
UID:3955-1751724000-1751731200@wicoffhouseplainsboro.com
SUMMARY:Countdown to 250
DESCRIPTION:Free event!\n\nCelebrate Independence Day at the museum with a fun-filled day of crafts\, games\, a scavenger hunt\, guided tours\, fireworks\, snowcones\, and much more for the whole family to enjoy! This exciting event is the perfect way to kick off our year-long celebration of America’s 250th anniversary in 2026\, offering a chance to explore history\, engage in hands-on activities\, and create lasting memories together. Don’t miss out on this festive occasion that combines education\, entertainment\, and patriotic spirit all in one place!\n\nPlease register: tinyurl.com/whjuly4th
URL:https://wicoffhouseplainsboro.com/event/countdown-to-250/
LOCATION:Historic Wicoff House Museum\, 641 Plainsboro Road\, Plainsboro\, NJ\, 08536\, United States
CATEGORIES:Family Events,Youth Advisory Council
ATTACH;FMTTYPE=application/pdf:https://wicoffhouseplainsboro.com/wp-content/uploads/2025/07/Countdown-to-250-Flyer-7.5.25.pdf
ORGANIZER;CN="Historic Wicoff House Museum":MAILTO:museum@plainsboronj.com
END:VEVENT
BEGIN:VEVENT
DTSTART;TZID=America/New_York:20250706T130000
DTEND;TZID=America/New_York:20250706T140000
DTSTAMP:20260425T111920
CREATED:20250720T180322Z
LAST-MODIFIED:20250720T180322Z
UID:3959-1751806800-1751810400@wicoffhouseplainsboro.com
SUMMARY:Marching Through Time: The Military History of Plainsboro
DESCRIPTION:Join us for a fascinating lecture exploring Plainsboro’s role in major U.S. conflicts—from its early days as part of Cranbury during the Revolutionary War to the War on Terror. Discover how these events helped shape Plainsboro’s transformation from a quiet farming village to the vibrant community it is today.\nAlso don’t miss our new temporary exhibit featuring military artifacts from local Plainsboro citizens—each piece with its own unique story!\n\nRefreshments will be provided.\n\nTo register: https://tinyurl.com/whmilitary
URL:https://wicoffhouseplainsboro.com/event/marching-through-time-the-military-history-of-plainsboro/
LOCATION:Historic Wicoff House Museum\, 641 Plainsboro Road\, Plainsboro\, NJ\, 08536\, United States
CATEGORIES:Family Events
ATTACH;FMTTYPE=image/jpeg:https://wicoffhouseplainsboro.com/wp-content/uploads/2025/07/7.6.25-Military-History-Lecture.jpg
ORGANIZER;CN="Historic Wicoff House Museum":MAILTO:museum@plainsboronj.com
END:VEVENT
BEGIN:VEVENT
DTSTART;TZID=America/New_York:20250706T143000
DTEND;TZID=America/New_York:20250706T153000
DTSTAMP:20260425T111920
CREATED:20250724T173750Z
LAST-MODIFIED:20250724T173750Z
UID:3963-1751812200-1751815800@wicoffhouseplainsboro.com
SUMMARY:Kids Craft Drop-In Days
DESCRIPTION:Get ready for some hands-on\, crafty fun at the Kids’ Craft Drop-In Workshop! This creative event is the perfect chance for kids to unleash their imagination\, get messy with art supplies\, and create masterpieces they’ll be proud of. From glitter and glue to paint and paper\, the possibilities are endless! No sign-ups —just drop in\, grab some supplies\, and let the fun begin.\n\nFirst Sunday of the month\, 2:30-3:30pm\n\nNo need to register!
URL:https://wicoffhouseplainsboro.com/event/kids-craft-drop-in-days-4/
LOCATION:Historic Wicoff House Museum\, 641 Plainsboro Road\, Plainsboro\, NJ\, 08536\, United States
CATEGORIES:Family Events,Kids Program,Youth Advisory Council
ATTACH;FMTTYPE=image/png:https://wicoffhouseplainsboro.com/wp-content/uploads/2025/07/2.2.25-Kids-Craft-Dropin-Flyer.png
ORGANIZER;CN="Historic Wicoff House Museum":MAILTO:museum@plainsboronj.com
END:VEVENT
BEGIN:VEVENT
DTSTART;TZID=America/New_York:20250803T143000
DTEND;TZID=America/New_York:20250803T153000
DTSTAMP:20260425T111920
CREATED:20250724T174145Z
LAST-MODIFIED:20250724T174145Z
UID:3966-1754231400-1754235000@wicoffhouseplainsboro.com
SUMMARY:Kids Craft Drop-In Days
DESCRIPTION:Get ready for some hands-on\, crafty fun at the Kids’ Craft Drop-In Workshop! This creative event is the perfect chance for kids to unleash their imagination\, get messy with art supplies\, and create masterpieces they’ll be proud of. From glitter and glue to paint and paper\, the possibilities are endless! No sign-ups —just drop in\, grab some supplies\, and let the fun begin.\n\nFirst Sunday of the month\, 2:30-3:30pm\n\nNo need to register!
URL:https://wicoffhouseplainsboro.com/event/kids-craft-drop-in-days-5/
LOCATION:Historic Wicoff House Museum\, 641 Plainsboro Road\, Plainsboro\, NJ\, 08536\, United States
CATEGORIES:Family Events,Kids Program,Youth Advisory Council
ATTACH;FMTTYPE=image/png:https://wicoffhouseplainsboro.com/wp-content/uploads/2025/07/2.2.25-Kids-Craft-Dropin-Flyer.png
ORGANIZER;CN="Historic Wicoff House Museum":MAILTO:museum@plainsboronj.com
END:VEVENT
BEGIN:VEVENT
DTSTART;TZID=America/New_York:20250809T140000
DTEND;TZID=America/New_York:20250809T160000
DTSTAMP:20260425T111920
CREATED:20250725T202651Z
LAST-MODIFIED:20250725T202651Z
UID:3974-1754748000-1754755200@wicoffhouseplainsboro.com
SUMMARY:National Book Lovers Day
DESCRIPTION:Join us at the Wicoff House Museum on Saturday\, August 9th from 2:00–4:00 PM to celebrate National Book Lovers Day—a free event for kids\, teens\, and adults who love to read! \nEnjoy a fun-filled afternoon with a book exchange (bring a book\, take a book)\, crafts like bookmark-making\, book-themed games\, and book bingo. Come dressed as your favorite fictional character\, go on a museum scavenger hunt\, and relax with popcorn and a story. Whether you’re a casual reader or a bookworm\, there’s something for everyone. \nHosted by the Wicoff House Museum Youth Advisory Council—see you there! \nTo register: tinyurl.com/wicoffbooks
URL:https://wicoffhouseplainsboro.com/event/national-book-lovers-day/
LOCATION:Historic Wicoff House Museum\, 641 Plainsboro Road\, Plainsboro\, NJ\, 08536\, United States
CATEGORIES:Family Events,Youth Advisory Council
ATTACH;FMTTYPE=application/pdf:https://wicoffhouseplainsboro.com/wp-content/uploads/2025/07/Book-Lovers-Day-8.9.25.pdf
ORGANIZER;CN="Historic Wicoff House Museum":MAILTO:museum@plainsboronj.com
END:VEVENT
BEGIN:VEVENT
DTSTART;TZID=America/New_York:20250825T130000
DTEND;TZID=America/New_York:20250825T170000
DTSTAMP:20260425T111920
CREATED:20250314T194940Z
LAST-MODIFIED:20250314T194940Z
UID:3841-1756126800-1756141200@wicoffhouseplainsboro.com
SUMMARY:Renaissance Explorers
DESCRIPTION:Renaissance Explorers is a weeklong adventure in art\, science\, and history for kids ages 6-12 at the Wicoff House Museum! From August 25-29 (1-5 PM)\, young creators will step into the past and unleash their creativity as they paint like the masters\, sculpt with clay\, design inventions\, and craft illuminated manuscripts. Through hands-on projects and interactive activities\, they’ll discover the exciting connection between art\, science\, and innovation—all while exploring the rich history of the Renaissance. \nJoin us for five days of discovery\, creativity\, and museum adventures—all for just $50! \nRegister online: tinyurl.com/whcamp25
URL:https://wicoffhouseplainsboro.com/event/renaissance-explorers/
LOCATION:Historic Wicoff House Museum\, 641 Plainsboro Road\, Plainsboro\, NJ\, 08536\, United States
CATEGORIES:Kids Program,Summer Camp
ATTACH;FMTTYPE=application/pdf:https://wicoffhouseplainsboro.com/wp-content/uploads/2025/03/Renaissance-Explorers-8.25.25.pdf
ORGANIZER;CN="Historic Wicoff House Museum":MAILTO:museum@plainsboronj.com
END:VEVENT
BEGIN:VEVENT
DTSTART;TZID=America/New_York:20250907T143000
DTEND;TZID=America/New_York:20250907T153000
DTSTAMP:20260425T111920
CREATED:20250724T174616Z
LAST-MODIFIED:20250724T174616Z
UID:3968-1757255400-1757259000@wicoffhouseplainsboro.com
SUMMARY:Kids Craft Drop-In Days
DESCRIPTION:Get ready for some hands-on\, crafty fun at the Kids’ Craft Drop-In Workshop! This creative event is the perfect chance for kids to unleash their imagination\, get messy with art supplies\, and create masterpieces they’ll be proud of. From glitter and glue to paint and paper\, the possibilities are endless! No sign-ups —just drop in\, grab some supplies\, and let the fun begin.\n\nFirst Sunday of the month\, 2:30-3:30pm\n\nNo need to register!
URL:https://wicoffhouseplainsboro.com/event/kids-craft-drop-in-days-6/
LOCATION:Historic Wicoff House Museum\, 641 Plainsboro Road\, Plainsboro\, NJ\, 08536\, United States
CATEGORIES:Family Events,Kids Program,Youth Advisory Council
ATTACH;FMTTYPE=image/png:https://wicoffhouseplainsboro.com/wp-content/uploads/2025/07/2.2.25-Kids-Craft-Dropin-Flyer.png
ORGANIZER;CN="Historic Wicoff House Museum":MAILTO:museum@plainsboronj.com
END:VEVENT
BEGIN:VEVENT
DTSTART;TZID=America/New_York:20250920T140000
DTEND;TZID=America/New_York:20251206T160000
DTSTAMP:20260425T111920
CREATED:20250910T172243Z
LAST-MODIFIED:20250910T172243Z
UID:4002-1758376800-1765036800@wicoffhouseplainsboro.com
SUMMARY:Lego Landmarks
DESCRIPTION:Join us for a hands-on\, history-filled adventure! In LEGO Landmarks\, kids ages 6–12 will explore the fascinating stories behind famous buildings and local landmarks\, then bring them to life using LEGO bricks. Each week\, participants will learn about a different landmark\, use teamwork and creativity to design their own build\, and see their creations showcased in a special museum exhibit at the end of the program. \nThis fun and educational program runs on Saturdays\, September 20 – December 6\, from 2:00–4:00 PM. The cost is $45 per child\, and all materials are provided. \nWhether your child is a budding architect\, a history buff\, or just loves LEGO\, this program is a perfect way to combine learning\, creativity\, and fun! \nRegister at tinyurl.com/museumfall25
URL:https://wicoffhouseplainsboro.com/event/lego-landmarks/
LOCATION:Historic Wicoff House Museum\, 641 Plainsboro Road\, Plainsboro\, NJ\, 08536\, United States
CATEGORIES:Kids Program
ATTACH;FMTTYPE=application/pdf:https://wicoffhouseplainsboro.com/wp-content/uploads/2025/09/Lego-Landmarks-Flyer-Fall-2025.pdf
ORGANIZER;CN="Historic Wicoff House Museum":MAILTO:museum@plainsboronj.com
END:VEVENT
BEGIN:VEVENT
DTSTART;TZID=America/New_York:20260104T140000
DTEND;TZID=America/New_York:20260104T160000
DTSTAMP:20260425T111920
CREATED:20251230T180648Z
LAST-MODIFIED:20251230T180648Z
UID:4124-1767535200-1767542400@wicoffhouseplainsboro.com
SUMMARY:Beat of the Revolution: 6 Months to America's 250th!
DESCRIPTION:Join us on January 4\, 2026\, as we mark exactly six months until America’s 250th anniversary! \n \n  \nWe will be hosting a Revolutionary War Drum Circle led by professional percussionist & museum educator Justin Vedovelli\nLearn how drums were used during the Revolutionary War and try your hand at playing authentic military rhythms. \nLearn more about Justin at www.justinvedovelli.com \n  \n  \nWe will also have:\nRevolutionary-era crafts for kids and families\nStorytime inspired by 18th-century life\nColonial dress up for kids!\nMuseum scavenger hunt\nColonial tea & cocoa \n  \nMore information at tinyurl.com/wicoffdrums
URL:https://wicoffhouseplainsboro.com/event/beat-of-the-revolution-6-months-to-americas-250th/
LOCATION:Historic Wicoff House Museum\, 641 Plainsboro Road\, Plainsboro\, NJ\, 08536\, United States
CATEGORIES:Family Events
ATTACH;FMTTYPE=image/png:https://wicoffhouseplainsboro.com/wp-content/uploads/2025/12/Victorian-Era-Literary-Movement-Poster-in-Beige-Ornate-Vintage-Style.png
ORGANIZER;CN="Historic Wicoff House Museum":MAILTO:museum@plainsboronj.com
END:VEVENT
BEGIN:VEVENT
DTSTART;TZID=America/New_York:20260117T130000
DTEND;TZID=America/New_York:20260117T160000
DTSTAMP:20260425T111920
CREATED:20251230T181107Z
LAST-MODIFIED:20251230T181107Z
UID:4127-1768654800-1768665600@wicoffhouseplainsboro.com
SUMMARY:SnowFest 2026
DESCRIPTION:Join the Wicoff House Museum and the Township of Plainsboro Department of Recreation & Community Services for SNOWFEST 2026! \nSaturday\, January 17th\, 2026\, from 1-4pm \nSNOWY CRAFTS & ACTIVITIES\nSTORYTIME & MUSEUM SCAVENGER HUNT\nMEET OLAF & OTHER CHARACTERS!\nSMORES\, HOT CHOCOLATE & SNOWCONES \nAnd new this year: INFLATABLES\, ICE CARVING\, AND MORE! \nThis event is free for all ages! \nRegister: tinyurl.com/snowfest26 \nFollow signs for event parking\n641 Plainsboro Road\, Plainsboro Municipal Complex\nmuseum@plainsboronj.com
URL:https://wicoffhouseplainsboro.com/event/snowfest-2026/
LOCATION:Historic Wicoff House Museum\, 641 Plainsboro Road\, Plainsboro\, NJ\, 08536\, United States
CATEGORIES:Family Events
ATTACH;FMTTYPE=image/jpeg:https://wicoffhouseplainsboro.com/wp-content/uploads/2025/12/1.17.26-SnowFest-Museum_1.jpg
ORGANIZER;CN="Historic Wicoff House Museum":MAILTO:museum@plainsboronj.com
END:VEVENT
END:VCALENDAR