BEGIN:VCALENDAR
VERSION:2.0
PRODID:-//Historic Wicoff House Museum - ECPv6.15.17//NONSGML v1.0//EN
CALSCALE:GREGORIAN
METHOD:PUBLISH
X-WR-CALNAME:Historic Wicoff House Museum
X-ORIGINAL-URL:https://wicoffhouseplainsboro.com
X-WR-CALDESC:Events for Historic Wicoff House Museum
REFRESH-INTERVAL;VALUE=DURATION:PT1H
X-Robots-Tag:noindex
X-PUBLISHED-TTL:PT1H
BEGIN:VTIMEZONE
TZID:America/New_York
BEGIN:DAYLIGHT
TZOFFSETFROM:-0500
TZOFFSETTO:-0400
TZNAME:EDT
DTSTART:20180311T070000
END:DAYLIGHT
BEGIN:STANDARD
TZOFFSETFROM:-0400
TZOFFSETTO:-0500
TZNAME:EST
DTSTART:20181104T060000
END:STANDARD
BEGIN:DAYLIGHT
TZOFFSETFROM:-0500
TZOFFSETTO:-0400
TZNAME:EDT
DTSTART:20190310T070000
END:DAYLIGHT
BEGIN:STANDARD
TZOFFSETFROM:-0400
TZOFFSETTO:-0500
TZNAME:EST
DTSTART:20191103T060000
END:STANDARD
BEGIN:DAYLIGHT
TZOFFSETFROM:-0500
TZOFFSETTO:-0400
TZNAME:EDT
DTSTART:20200308T070000
END:DAYLIGHT
BEGIN:STANDARD
TZOFFSETFROM:-0400
TZOFFSETTO:-0500
TZNAME:EST
DTSTART:20201101T060000
END:STANDARD
BEGIN:DAYLIGHT
TZOFFSETFROM:-0500
TZOFFSETTO:-0400
TZNAME:EDT
DTSTART:20210314T070000
END:DAYLIGHT
BEGIN:STANDARD
TZOFFSETFROM:-0400
TZOFFSETTO:-0500
TZNAME:EST
DTSTART:20211107T060000
END:STANDARD
END:VTIMEZONE
BEGIN:VEVENT
DTSTART;TZID=America/New_York:20200726T110000
DTEND;TZID=America/New_York:20200726T140000
DTSTAMP:20260425T202527
CREATED:20200106T095258Z
LAST-MODIFIED:20221027T034021Z
UID:1335-1595761200-1595772000@wicoffhouseplainsboro.com
SUMMARY:Summer History Faire 2020
DESCRIPTION:Please join us at the Wicoff House Museum for our first Summer History Faire event! This event will be limited to about 100-150 people per hour\, so please register the total number of your group that will be attending the event. Activities will be socially distanced\, and visitors will be required to wear masks. \nCivil War re-enactors will be camped out on the museum lawn! Learn about the lives of the people who lived and fought during the Civil War. \nThis event is FREE\, but registration is recommended. Register online: tiny.cc/summerhistoryfaire \nOutdoor activities will include games and crafts. Kids will receive an activity booklet to complete for a prize. Get a tour of the museum and complete the museum scavenger hunt. \nRefreshments will be provided\, including snowcones!
URL:https://wicoffhouseplainsboro.com/event/summerhistoryfaire-20/
LOCATION:Historic Wicoff House Museum\, 641 Plainsboro Road\, Plainsboro\, NJ\, 08536\, United States
CATEGORIES:Family Events,Youth Advisory Council
ATTACH;FMTTYPE=image/png:https://wicoffhouseplainsboro.com/wp-content/uploads/2020/01/8.5x11-Summer-History-Faire-July-26-2020.png
ORGANIZER;CN="Historic Wicoff House Museum":MAILTO:museum@plainsboronj.com
END:VEVENT
BEGIN:VEVENT
DTSTART;TZID=America/New_York:20191027T123000
DTEND;TZID=America/New_York:20191027T160000
DTSTAMP:20260425T202527
CREATED:20191118T213917Z
LAST-MODIFIED:20221027T033639Z
UID:1302-1572179400-1572192000@wicoffhouseplainsboro.com
SUMMARY:Escape the Museum 2019
DESCRIPTION:You are “locked” in the rooms of the historic Wicoff House with the ghosts of its former residents! Learn the stories of their lives to uncover clues and solve riddles so that you can escape before time runs out!
URL:https://wicoffhouseplainsboro.com/event/escapethemuseum-19/
LOCATION:Historic Wicoff House Museum\, 641 Plainsboro Road\, Plainsboro\, NJ\, 08536\, United States
CATEGORIES:Family Events,Friends of the Wicoff House,Youth Advisory Council
ATTACH;FMTTYPE=image/png:https://wicoffhouseplainsboro.com/wp-content/uploads/2020/08/whpersonimage.png
ORGANIZER;CN="Historic Wicoff House Museum":MAILTO:museum@plainsboronj.com
END:VEVENT
END:VCALENDAR