BEGIN:VCALENDAR
VERSION:2.0
PRODID:-//Historic Wicoff House Museum - ECPv6.15.17//NONSGML v1.0//EN
CALSCALE:GREGORIAN
METHOD:PUBLISH
X-ORIGINAL-URL:https://wicoffhouseplainsboro.com
X-WR-CALDESC:Events for Historic Wicoff House Museum
REFRESH-INTERVAL;VALUE=DURATION:PT1H
X-Robots-Tag:noindex
X-PUBLISHED-TTL:PT1H
BEGIN:VTIMEZONE
TZID:America/New_York
BEGIN:DAYLIGHT
TZOFFSETFROM:-0500
TZOFFSETTO:-0400
TZNAME:EDT
DTSTART:20240310T070000
END:DAYLIGHT
BEGIN:STANDARD
TZOFFSETFROM:-0400
TZOFFSETTO:-0500
TZNAME:EST
DTSTART:20241103T060000
END:STANDARD
BEGIN:DAYLIGHT
TZOFFSETFROM:-0500
TZOFFSETTO:-0400
TZNAME:EDT
DTSTART:20250309T070000
END:DAYLIGHT
BEGIN:STANDARD
TZOFFSETFROM:-0400
TZOFFSETTO:-0500
TZNAME:EST
DTSTART:20251102T060000
END:STANDARD
BEGIN:DAYLIGHT
TZOFFSETFROM:-0500
TZOFFSETTO:-0400
TZNAME:EDT
DTSTART:20260308T070000
END:DAYLIGHT
BEGIN:STANDARD
TZOFFSETFROM:-0400
TZOFFSETTO:-0500
TZNAME:EST
DTSTART:20261101T060000
END:STANDARD
END:VTIMEZONE
BEGIN:VEVENT
DTSTART;TZID=America/New_York:20250401T113000
DTEND;TZID=America/New_York:20250401T133000
DTSTAMP:20260425T110315
CREATED:20250318T191015Z
LAST-MODIFIED:20250318T191015Z
UID:3845-1743507000-1743514200@wicoffhouseplainsboro.com
SUMMARY:Heirloom Stitchers
DESCRIPTION:Ages 18+  \nFree program!  \nJoin the Heirloom Stitchers at the Wicoff House and bring history to life! This volunteer program is open to everyone\, regardless of sewing experience. Participants will cut patterns and sew historic reproduction costumes by hand and with sewing machines\, creating garments for use in museum programs and events. Whether you’re a seasoned seamstress or completely new to sewing\, this program offers a supportive environment to learn\, create\, and contribute to preserving history in a hands-on way.  \n  \nApril 1st-June 3rd\, 11:30AM-1:30PM  \n   \nTo register: tinyurl.com/heirloom25 
URL:https://wicoffhouseplainsboro.com/event/heirloom-stitchers/
LOCATION:Historic Wicoff House Museum\, 641 Plainsboro Road\, Plainsboro\, NJ\, 08536\, United States
CATEGORIES:Adult Events
ATTACH;FMTTYPE=image/jpeg:https://wicoffhouseplainsboro.com/wp-content/uploads/2025/03/Screenshot_18-3-2025_1423_.jpeg
ORGANIZER;CN="Historic Wicoff House Museum":MAILTO:museum@plainsboronj.com
END:VEVENT
BEGIN:VEVENT
DTSTART;TZID=America/New_York:20250404T113000
DTEND;TZID=America/New_York:20250404T133000
DTSTAMP:20260425T110315
CREATED:20250318T192909Z
LAST-MODIFIED:20250318T192909Z
UID:3858-1743766200-1743773400@wicoffhouseplainsboro.com
SUMMARY:Volunteer Archivists
DESCRIPTION:Ages 18+  \nJoin our adult volunteer program and help the Wicoff House Museum preserve the rich history of Plainsboro! We are seeking dedicated volunteers to assist in organizing and cataloging historical documents related to the people\, places and events that have shaped our town’s history. Volunteers will work hands-on with photographs\, letters\, newspapers\, and other archival materials\, helping us to create a well-organized and accessible collection for future generations. This is a wonderful opportunity for history enthusiasts to engage with local history\, learn archival techniques\, and contribute to the museum’s mission of preserving Plainsboro’s legacy. No prior experience is necessary\, and training will be provided. Help us tell the story of Plainsboro!  \nFree program!  \nApril 4th- June 6th\, 11:30am-1:30pm  \nTo register: tinyurl.com/wharch25 
URL:https://wicoffhouseplainsboro.com/event/volunteer-archivists-2/
LOCATION:Historic Wicoff House Museum\, 641 Plainsboro Road\, Plainsboro\, NJ\, 08536\, United States
CATEGORIES:Adult Events
ATTACH;FMTTYPE=image/jpeg:https://wicoffhouseplainsboro.com/wp-content/uploads/2025/03/Screenshot_18-3-2025_14327_.jpeg
ORGANIZER;CN="Historic Wicoff House Museum":MAILTO:museum@plainsboronj.com
END:VEVENT
BEGIN:VEVENT
DTSTART;TZID=America/New_York:20250405T140000
DTEND;TZID=America/New_York:20250405T160000
DTSTAMP:20260425T110315
CREATED:20250318T191636Z
LAST-MODIFIED:20250318T191636Z
UID:3851-1743861600-1743868800@wicoffhouseplainsboro.com
SUMMARY:Junior Archivists
DESCRIPTION:Ages 9-11  \nThe Junior Archivists program offers a dynamic and educational experience at the museum. Participants explore the museum collections and archives\, engaging in fun hands-on activities to learn about researching and interpreting historical topics. The Junior Archivists will create their own museum exhibits and gain a deeper understanding and appreciation of local history. This program will allow participants to foster their creativity and curiosity while learning about history\, museums and preservation. Each member receives a Junior Archivists t-shirt\, binder and special membership card.  \nDuring this session\, the Junior Archivists will take a bus trip from the museum on two Saturdays to visit other museums in Middlesex County. They will learn about how other museums curate exhibits and interpret history. They will also collaborate with these museums to create a multi-organizational exhibit at the Wicoff House. At the end of this session\, the Junior Archivists will host a new temporary exhibit and presentation at the Wicoff House for the community.  \nRegistration is $45  \nApril 5th-June 14th \,2pm-4pm  \nTo register: tinyurl.com/spring25ja 
URL:https://wicoffhouseplainsboro.com/event/junior-archivists/
LOCATION:Historic Wicoff House Museum\, 641 Plainsboro Road\, Plainsboro\, NJ\, 08536\, United States
CATEGORIES:Kids Program
ATTACH;FMTTYPE=image/jpeg:https://wicoffhouseplainsboro.com/wp-content/uploads/2025/03/Screenshot_18-3-2025_14245_.jpeg
ORGANIZER;CN="Historic Wicoff House Museum":MAILTO:museum@plainsboronj.com
END:VEVENT
BEGIN:VEVENT
DTSTART;TZID=America/New_York:20250405T140000
DTEND;TZID=America/New_York:20250405T160000
DTSTAMP:20260425T110315
CREATED:20250318T192244Z
LAST-MODIFIED:20250318T192244Z
UID:3855-1743861600-1743868800@wicoffhouseplainsboro.com
SUMMARY:Junior Historians Club
DESCRIPTION:Ages 6-8  \nThe Junior Historians Club meets at the Wicoff House Museum\, where they solve museum mysteries and learn about topics related to history and preservation. They use the museum collections and the museum grounds to complete fun activities. Each club member receives a JHC t-shirt\, a JHC logbook and weekly worksheets to record all of their activities.  \nThis session’s topic is DIGGING UP THE PAST. Club members will learn about archaeology and conduct a mini archaeological dig.  \nApril 5th- June 14th\, 2pm-4pm  \nRegistration is $45  \nTo register: tinyurl.com/spring25jhc 
URL:https://wicoffhouseplainsboro.com/event/junior-historians-club-2/
LOCATION:Historic Wicoff House Museum\, 641 Plainsboro Road\, Plainsboro\, NJ\, 08536\, United States
CATEGORIES:Junior Historians Club
ATTACH;FMTTYPE=image/jpeg:https://wicoffhouseplainsboro.com/wp-content/uploads/2025/03/Screenshot_18-3-2025_1431_.jpeg
ORGANIZER;CN="Historic Wicoff House Museum":MAILTO:museum@plainsboronj.com
END:VEVENT
BEGIN:VEVENT
DTSTART;TZID=America/New_York:20250406T123000
DTEND;TZID=America/New_York:20250406T140000
DTSTAMP:20260425T110315
CREATED:20250321T193054Z
LAST-MODIFIED:20250321T193054Z
UID:3868-1743942600-1743948000@wicoffhouseplainsboro.com
SUMMARY:Young Reporters Club
DESCRIPTION:Ages 8-12 \nStep into the shoes of a journalist with the Young Reporters Club program at the Wicoff House! In this exciting program\, children will delve into Plainsboro’s rich history\, exploring events like the town’s incorporation in 1919\, the “alien invasion” panic of 1938\, and how Plainsboro was impacted by significant national and global events such as World War II and 9/11. \nParticipants will learn how these events connect to the present day while developing research and writing skills. They will also interview important or influential figures in Plainsboro\, gaining unique insights into the town’s past and present. By the end of the program\, their articles will be published in a special museum journal\, and one outstanding article will be selected for publication in the Plainsboro Reporter.   \nJoin the adventure for just $45—notebooks ready! \nSundays\, April 6 – June 15; 12:30-2:00pm; NO MEETING 4/20! \nTo register: tinyurl.com/YRCWH25 \n 
URL:https://wicoffhouseplainsboro.com/event/young-reporters-club/
LOCATION:Historic Wicoff House Museum\, 641 Plainsboro Road\, Plainsboro\, NJ\, 08536\, United States
CATEGORIES:Kids Program
ATTACH;FMTTYPE=image/jpeg:https://wicoffhouseplainsboro.com/wp-content/uploads/2025/03/Young-Reporters-Club.jpg
ORGANIZER;CN="Historic Wicoff House Museum":MAILTO:museum@plainsboronj.com
END:VEVENT
BEGIN:VEVENT
DTSTART;TZID=America/New_York:20250406T143000
DTEND;TZID=America/New_York:20250406T153000
DTSTAMP:20260425T110315
CREATED:20250307T164019Z
LAST-MODIFIED:20250307T164019Z
UID:3829-1743949800-1743953400@wicoffhouseplainsboro.com
SUMMARY:Kids Craft Drop-In Days
DESCRIPTION:Get ready for some hands-on\, crafty fun at the Kids’ Craft Drop-In Workshop! This creative event is the perfect chance for kids to unleash their imagination\, get messy with art supplies\, and create masterpieces they’ll be proud of. From glitter and glue to paint and paper\, the possibilities are endless! No sign-ups —just drop in\, grab some supplies\, and let the fun begin. \nFirst Sunday of the month\, 2:30-3:30pm \nNo need to register!
URL:https://wicoffhouseplainsboro.com/event/kids-craft-drop-in-days-2/
LOCATION:Historic Wicoff House Museum\, 641 Plainsboro Road\, Plainsboro\, NJ\, 08536\, United States
CATEGORIES:Family Events,Kids Program
ATTACH;FMTTYPE=image/jpeg:https://wicoffhouseplainsboro.com/wp-content/uploads/2025/01/Screenshot_4-1-2025_15411_.jpeg
ORGANIZER;CN="Historic Wicoff House Museum":MAILTO:museum@plainsboronj.com
END:VEVENT
BEGIN:VEVENT
DTSTART;TZID=America/New_York:20250406T180000
DTEND;TZID=America/New_York:20250406T200000
DTSTAMP:20260425T110315
CREATED:20250323T202359Z
LAST-MODIFIED:20250327T154049Z
UID:3879-1743962400-1743969600@wicoffhouseplainsboro.com
SUMMARY:Bingo at the Museum
DESCRIPTION:Free Event! \nJoin us for a fun-filled Bingo Night at the Wicoff House Museum! Enjoy an evening of friendly competition\, historical charm\, and fun prizes. Whether you’re a seasoned Bingo player or a first-timer\, it’s a perfect way to spend time with friends and family while supporting this local landmark. Don’t miss out on the excitement—mark your calendars for a night of laughter and community! \nSaturday April 5th\, 6pm-8pm \nTo register: meetup.com/plainsborosocial
URL:https://wicoffhouseplainsboro.com/event/bingo-at-the-museum/
LOCATION:Historic Wicoff House Museum\, 641 Plainsboro Road\, Plainsboro\, NJ\, 08536\, United States
CATEGORIES:Adult Events,Family Events
ATTACH;FMTTYPE=image/png:https://wicoffhouseplainsboro.com/wp-content/uploads/2025/03/4.5.25-Bingo-Museum-Flyer.png
ORGANIZER;CN="Historic Wicoff House Museum":MAILTO:museum@plainsboronj.com
END:VEVENT
BEGIN:VEVENT
DTSTART;TZID=America/New_York:20250408T153000
DTEND;TZID=America/New_York:20250408T163000
DTSTAMP:20260425T110315
CREATED:20250321T193618Z
LAST-MODIFIED:20250321T193618Z
UID:3871-1744126200-1744129800@wicoffhouseplainsboro.com
SUMMARY:Young Reporters Club (VIRTUAL)
DESCRIPTION:Ages 8-12 \nIn this engaging online program\, children will delve into Plainsboro’s rich history\, learning about events like the town’s incorporation in 1919\, the “alien invasion” panic of 1938\, and how Plainsboro was impacted by national and global events such as World War II and 9/11. Participants will discover how these historical moments connect to the present day\, develop their research and writing skills\, and even conduct virtual interviews with important or influential figures in Plainsboro. Their completed articles will be published in a special museum journal\, and one standout article will be chosen for publication in the Plainsboro Reporter. \nJoin the adventure for just $45—notebooks ready! \nInstructor will contact you with Zoom Link prior to the first meeting.   \nTuesdays\, April 8 – June 10; 3:30-4:30pm \nTo register: tinyurl.com/YRCV25
URL:https://wicoffhouseplainsboro.com/event/young-reporters-club-virtual/
LOCATION:Virtual
CATEGORIES:Kids Program
ATTACH;FMTTYPE=image/jpeg:https://wicoffhouseplainsboro.com/wp-content/uploads/2025/03/Young-Reporters-Club.jpg
ORGANIZER;CN="Historic Wicoff House Museum":MAILTO:museum@plainsboronj.com
END:VEVENT
BEGIN:VEVENT
DTSTART;TZID=America/New_York:20250419T130000
DTEND;TZID=America/New_York:20250419T160000
DTSTAMP:20260425T110315
CREATED:20250322T164131Z
LAST-MODIFIED:20250322T164131Z
UID:3875-1745067600-1745078400@wicoffhouseplainsboro.com
SUMMARY:Spring Egg Hunt
DESCRIPTION:Join the Wicoff House Museum\, Plainsboro Police Department\, and Plainsboro Fire Department for a fun-filled Spring Egg Hunt at the museum! Enjoy crafts\, refreshments\, and museum tours\, then check out a real fire truck after filling your basket with eggs. \nThis free event is open to all—just let us know the number of children attending and their ages. \nDonations benefit the Friends of the Wicoff House. \nTo register: tinyurl.com/whegg25
URL:https://wicoffhouseplainsboro.com/event/spring-egg-hunt-2/
LOCATION:Historic Wicoff House Museum\, 641 Plainsboro Road\, Plainsboro\, NJ\, 08536\, United States
CATEGORIES:Family Events
ATTACH;FMTTYPE=image/png:https://wicoffhouseplainsboro.com/wp-content/uploads/2025/03/4.19.25-Egg-Hunt-Museum-8.5x11.png
ORGANIZER;CN="Historic Wicoff House Museum":MAILTO:museum@plainsboronj.com
END:VEVENT
END:VCALENDAR